BEGIN:VCALENDAR
VERSION:2.0
PRODID:-//Plone.org//NONSGML plone.app.event//EN
X-WR-TIMEZONE:Europe/Paris
BEGIN:VEVENT
SUMMARY:Rassemblement diocésain des Équipes du Rosaire 2024
DTSTART;TZID=Europe/Paris;VALUE=DATE-TIME:20240530T093000
DTEND;TZID=Europe/Paris;VALUE=DATE-TIME:20240530T153000
DTSTAMP;VALUE=DATE-TIME:20260420T034923Z
UID:764e24fb0a0e43df85f9e98b3ed4ba1e@www.yonne.catholique.fr
ATTENDEE;CN="Frère Pierre Januard, Dominicain, couvent de l'Annonciation 
 à Paris";ROLE=REQ-PARTICIPANT:Frère Pierre Januard, Dominicain, couvent 
 de l'Annonciation à Paris
ATTENDEE;CN="Père Pascal Bégin, aumônier diocésain des Équipes du Ros
 aire";ROLE=REQ-PARTICIPANT:Père Pascal Bégin, aumônier diocésain des 
 Équipes du Rosaire
CONTACT:Martine Muszkieta - mmuszkieta@orange.fr\, 06 27 67 62 77\, mmuszk
 ieta@orange.fr
CREATED;VALUE=DATE-TIME:20240321T171508Z
DESCRIPTION:Le rassemblement des Équipes du Rosaire aura lieu cette anné
 e à Sens\, le jeudi 30 mai 2024. Cette journée est ouverte à toutes les
  personnes qui aiment prier la Vierge Marie\, durant ce mois qui lui est t
 raditionnellement consacré. Votre participation est sans engagement et vo
 us donnera de vivre une journée de ressourcement et de convivialité. Vou
 s pourrez ainsi découvrir notre mouvement des Équipes du Rosaire.\n\n\n
LAST-MODIFIED;VALUE=DATE-TIME:20240627T150234Z
LOCATION:Sens\, salle Saint-Savinien (137 bis\, rue Alsace-Lorraine)
URL:https://www.yonne.catholique.fr/actualites/equipes-rosaire/rassembleme
 nt-diocesain-des-equipes-du-rosaire-2024
END:VEVENT
BEGIN:VTIMEZONE
TZID:Europe/Paris
X-LIC-LOCATION:Europe/Paris
BEGIN:DAYLIGHT
DTSTART;VALUE=DATE-TIME:20240331T030000
TZNAME:CEST
TZOFFSETFROM:+0100
TZOFFSETTO:+0200
END:DAYLIGHT
END:VTIMEZONE
END:VCALENDAR
