BEGIN:VCALENDAR
VERSION:2.0
PRODID:-//Plone.org//NONSGML plone.app.event//EN
X-WR-TIMEZONE:Europe/Paris
BEGIN:VEVENT
SUMMARY:Colloque "Les étés de la basilique"
DTSTART;VALUE=DATE:20260720
DTEND;VALUE=DATE:20260722
DTSTAMP;VALUE=DATE-TIME:20260424T095013Z
UID:aa37c0c4afc84513875389e8c0678d98@www.yonne.catholique.fr
CATEGORIES:�,�,t,�,�
CATEGORIES:J,u,b,i,l,�,�, ,2,0,2,5
CATEGORIES:R,S,S
CONTACT:Sanctuaire de Vézelay - secretariat@basiliquedevezelay.org\, 03 8
 6 33 39 50 (mardis\, jeudis et vendredis)\, secretariat@basiliquedevezelay
 .org
CREATED;VALUE=DATE-TIME:20250120T100355Z
DESCRIPTION:L’année 2026 marque\, à Vézelay\, le 80e anniversaire de 
 la “Croisade de la Paix”\, manifestation qui\, pour la première fois 
 après la Seconde guerre mondiale\, avait rassemblé des Européens de tou
 s pays\, dont des Allemands prisonniers en France\, qui avaient participé
  à cette rencontre. D’où le choix du thème de la paix pour le Colloqu
 e 2026 de la Basilique de Vézelay.
LAST-MODIFIED;VALUE=DATE-TIME:20260327T073438Z
LOCATION:Vézelay
URL:https://www.yonne.catholique.fr/agenda/les-etes-de-la-basilique
END:VEVENT
END:VCALENDAR
