BEGIN:VCALENDAR
VERSION:2.0
PRODID:-//Plone.org//NONSGML plone.app.event//EN
X-WR-TIMEZONE:Europe/Paris
BEGIN:VEVENT
SUMMARY:Les mardis de l’Observatoire Foi et Culture - OFC
DTSTART;TZID=Europe/Paris;VALUE=DATE-TIME:20260414T183000
DTEND;TZID=Europe/Paris;VALUE=DATE-TIME:20260414T200000
DTSTAMP;VALUE=DATE-TIME:20260420T095642Z
UID:136ea1a8533d434a8f986016c5c2d7d8@www.yonne.catholique.fr
ATTENDEE;CN="Une rencontre avec Constantin Sigov, animée par Isabelle Ric
 hebé, membre de l’OFC et introduite par Mgr Pascal Wintzer, responsable
  de l’OFC.";ROLE=REQ-PARTICIPANT:Une rencontre avec Constantin Sigov, an
 imée par Isabelle Richebé, membre de l’OFC et introduite par Mgr Pasca
 l Wintzer, responsable de l’OFC.
CONTACT:Mireille Alexandre - mireille.alexandre@cef.fr\, 01 72 36 68 21\, 
 mireille.alexandre@cef.fr\, https://laradicaliteducourage2026-paris.venio.
 fr/fr
CREATED;VALUE=DATE-TIME:20260305T165729Z
DESCRIPTION:Radicalité/Courage : dans un climat qui voit s’exprimer des
  extrémismes multiples\, alors que l’on ne parle que de radicalité et 
 d’absence de nuance dans les débats\, l’OFC propose de réfléchir su
 r le couple radicalité/courage.
LAST-MODIFIED;VALUE=DATE-TIME:20260305T170225Z
LOCATION:Visioconférence ou sur place à la CEF (58\, av. de Breteuil\, 7
 5007 Paris)
URL:https://www.yonne.catholique.fr/agenda/les-mardis-de-OFC
END:VEVENT
BEGIN:VTIMEZONE
TZID:Europe/Paris
X-LIC-LOCATION:Europe/Paris
BEGIN:DAYLIGHT
DTSTART;VALUE=DATE-TIME:20260329T030000
TZNAME:CEST
TZOFFSETFROM:+0100
TZOFFSETTO:+0200
END:DAYLIGHT
END:VTIMEZONE
END:VCALENDAR
