BEGIN:VCALENDAR
VERSION:2.0
PRODID:-//Plone.org//NONSGML plone.app.event//EN
X-WR-TIMEZONE:Europe/Paris
BEGIN:VEVENT
SUMMARY:Portes ouvertes au Séminaire Notre-Dame de l'Espérance
DTSTART;TZID=Europe/Paris;VALUE=DATE-TIME:20260411T093000
DTEND;TZID=Europe/Paris;VALUE=DATE-TIME:20260411T173000
DTSTAMP;VALUE=DATE-TIME:20260426T012635Z
UID:b4300b419d8e417cad8dc20bdeee8b50@www.yonne.catholique.fr
CONTACT:jpo.snde@gmail.com\, jpo.snde@gmail.com\, https://tally.so/r/npJML
 B
CREATED;VALUE=DATE-TIME:20260206T083828Z
DESCRIPTION:Vous vous posez des questions sur la vie au séminaire ? Vous 
 voulez simplement découvrir ce lieu unique ?\nVenez les rencontrer le sam
 edi 11 avril 2026 !
LAST-MODIFIED;VALUE=DATE-TIME:20260206T112003Z
LOCATION:1\, Cloître Saint-Aignan\, Orléans (45)
URL:https://www.yonne.catholique.fr/agenda/portes-ouvertes-au-seminaire-no
 tre-dame-de-lesperance
END:VEVENT
BEGIN:VTIMEZONE
TZID:Europe/Paris
X-LIC-LOCATION:Europe/Paris
BEGIN:DAYLIGHT
DTSTART;VALUE=DATE-TIME:20260329T030000
TZNAME:CEST
TZOFFSETFROM:+0100
TZOFFSETTO:+0200
END:DAYLIGHT
END:VTIMEZONE
END:VCALENDAR
