BEGIN:VCALENDAR
VERSION:2.0
PRODID:-//Plone.org//NONSGML plone.app.event//EN
X-WR-TIMEZONE:Europe/Paris
BEGIN:VEVENT
SUMMARY:Assemblée générale de l'association des Amis du Christ-Roi
DTSTART;TZID=Europe/Paris;VALUE=DATE-TIME:20260327T180000
DTEND;TZID=Europe/Paris;VALUE=DATE-TIME:20260327T200000
DTSTAMP;VALUE=DATE-TIME:20260422T035338Z
UID:6e36c5e795ff49c6a9698ce0b05fc8ff@www.yonne.catholique.fr
CREATED;VALUE=DATE-TIME:20260226T204200Z
LAST-MODIFIED;VALUE=DATE-TIME:20260227T083915Z
LOCATION:Salle paroissiale
URL:https://www.yonne.catholique.fr/christ-roi/actualite-paroissiale/Agend
 a-paroissial/assemblee-generale-de-lassociation-des-amis-du-christ-roi
END:VEVENT
BEGIN:VTIMEZONE
TZID:Europe/Paris
X-LIC-LOCATION:Europe/Paris
BEGIN:STANDARD
DTSTART;VALUE=DATE-TIME:20251026T020000
TZNAME:CET
TZOFFSETFROM:+0200
TZOFFSETTO:+0100
END:STANDARD
END:VTIMEZONE
END:VCALENDAR
