BEGIN:VCALENDAR
VERSION:2.0
PRODID:-//Plone.org//NONSGML plone.app.event//EN
X-WR-TIMEZONE:Europe/Paris
BEGIN:VEVENT
SUMMARY:Concert de Yves Audard
DTSTART;TZID=Europe/Paris;VALUE=DATE-TIME:20250927T203000
DTEND;TZID=Europe/Paris;VALUE=DATE-TIME:20250927T213000
DTSTAMP;VALUE=DATE-TIME:20260421T004654Z
UID:f761c3be4af54eb8ad3281fbb5535338@www.yonne.catholique.fr
CREATED;VALUE=DATE-TIME:20250911T131333Z
DESCRIPTION:(Organiste et Président de l'association "Amis des Orgues de 
 Joigny") entrée payante\nParticipation souhaitée de 10 € par personne\
 , gratuit pour les moins de 14 ans
LAST-MODIFIED;VALUE=DATE-TIME:20250911T135835Z
URL:https://www.yonne.catholique.fr/christ-roi/actualite-paroissiale/Agend
 a-paroissial/concert-de-yves-audard
END:VEVENT
BEGIN:VTIMEZONE
TZID:Europe/Paris
X-LIC-LOCATION:Europe/Paris
BEGIN:DAYLIGHT
DTSTART;VALUE=DATE-TIME:20250330T030000
TZNAME:CEST
TZOFFSETFROM:+0100
TZOFFSETTO:+0200
END:DAYLIGHT
END:VTIMEZONE
END:VCALENDAR
