BEGIN:VCALENDAR
VERSION:2.0
PRODID:-//Plone.org//NONSGML plone.app.event//EN
X-WR-TIMEZONE:Europe/Paris
BEGIN:VEVENT
SUMMARY:Formation des équipes obsèques
DTSTART;VALUE=DATE:20230613
DTEND;VALUE=DATE:20230614
DTSTAMP;VALUE=DATE-TIME:20260419T213109Z
UID:7bd8d01cc3e546afb3757acd5846739d@www.yonne.catholique.fr
CREATED;VALUE=DATE-TIME:20230603T145804Z
LAST-MODIFIED;VALUE=DATE-TIME:20230603T145811Z
LOCATION:Salle Marie Noël - Auxerre
URL:https://www.yonne.catholique.fr/christ-roi/actualite-paroissiale/Agend
 a-paroissial/formation-des-equipes-obseques
END:VEVENT
END:VCALENDAR
