BEGIN:VCALENDAR
VERSION:2.0
PRODID:-//Plone.org//NONSGML plone.app.event//EN
X-WR-TIMEZONE:Europe/Paris
BEGIN:VEVENT
SUMMARY:Fraternité Sainte-Thérèse
DTSTART;TZID=Europe/Paris;VALUE=DATE-TIME:20251212T143000
DTEND;TZID=Europe/Paris;VALUE=DATE-TIME:20251212T153000
DTSTAMP;VALUE=DATE-TIME:20260421T044828Z
UID:bee12512024a4858ae49006b7889e8c1@www.yonne.catholique.fr
CREATED;VALUE=DATE-TIME:20251126T111117Z
LAST-MODIFIED;VALUE=DATE-TIME:20251126T111134Z
LOCATION:chez les soeurs\, à Cheny
URL:https://www.yonne.catholique.fr/christ-roi/actualite-paroissiale/Agend
 a-paroissial/fraternite-sainte-therese-1
END:VEVENT
BEGIN:VTIMEZONE
TZID:Europe/Paris
X-LIC-LOCATION:Europe/Paris
BEGIN:STANDARD
DTSTART;VALUE=DATE-TIME:20251026T020000
TZNAME:CET
TZOFFSETFROM:+0200
TZOFFSETTO:+0100
END:STANDARD
END:VTIMEZONE
END:VCALENDAR
