BEGIN:VCALENDAR
VERSION:2.0
PRODID:-//Plone.org//NONSGML plone.app.event//EN
X-WR-TIMEZONE:Europe/Paris
BEGIN:VEVENT
SUMMARY:Fraternité Ste-Thérèse
DTSTART;TZID=Europe/Paris;VALUE=DATE-TIME:20230412T143000
DTEND;TZID=Europe/Paris;VALUE=DATE-TIME:20230412T153000
DTSTAMP;VALUE=DATE-TIME:20260421T101151Z
UID:28af3d86dbd94869be71e6df35410121@www.yonne.catholique.fr
CREATED;VALUE=DATE-TIME:20230401T163932Z
LAST-MODIFIED;VALUE=DATE-TIME:20230401T163946Z
URL:https://www.yonne.catholique.fr/christ-roi/actualite-paroissiale/Agend
 a-paroissial/fraternite-ste-therese
END:VEVENT
BEGIN:VTIMEZONE
TZID:Europe/Paris
X-LIC-LOCATION:Europe/Paris
BEGIN:DAYLIGHT
DTSTART;VALUE=DATE-TIME:20230326T030000
TZNAME:CEST
TZOFFSETFROM:+0100
TZOFFSETTO:+0200
END:DAYLIGHT
END:VTIMEZONE
END:VCALENDAR
