BEGIN:VCALENDAR
VERSION:2.0
PRODID:-//Plone.org//NONSGML plone.app.event//EN
X-WR-TIMEZONE:Europe/Paris
BEGIN:VEVENT
SUMMARY:Préparation du centenaire de l'église du Christ-Roi
DTSTART;TZID=Europe/Paris;VALUE=DATE-TIME:20250314T180000
DTEND;TZID=Europe/Paris;VALUE=DATE-TIME:20250314T200000
DTSTAMP;VALUE=DATE-TIME:20260422T152049Z
UID:bcd2cefe6c3e428da9cfaaf013f2cc61@www.yonne.catholique.fr
CREATED;VALUE=DATE-TIME:20250228T141104Z
LAST-MODIFIED;VALUE=DATE-TIME:20250228T141213Z
LOCATION:Salle paroissiale
URL:https://www.yonne.catholique.fr/christ-roi/actualite-paroissiale/Agend
 a-paroissial/preparation-du-centenaire-de-leglise-du-christ-roi
END:VEVENT
BEGIN:VTIMEZONE
TZID:Europe/Paris
X-LIC-LOCATION:Europe/Paris
BEGIN:STANDARD
DTSTART;VALUE=DATE-TIME:20241027T020000
TZNAME:CET
TZOFFSETFROM:+0200
TZOFFSETTO:+0100
END:STANDARD
END:VTIMEZONE
END:VCALENDAR
