BEGIN:VCALENDAR
VERSION:2.0
PRODID:-//Plone.org//NONSGML plone.app.event//EN
X-WR-TIMEZONE:Europe/Paris
BEGIN:VEVENT
SUMMARY:Récollection des équipes obsèques
DTSTART;TZID=Europe/Paris;VALUE=DATE-TIME:20260128T180000
DTEND;TZID=Europe/Paris;VALUE=DATE-TIME:20260128T190000
DTSTAMP;VALUE=DATE-TIME:20260420T000439Z
UID:f499ff3c86cb4557911cb43c7de9971e@www.yonne.catholique.fr
CREATED;VALUE=DATE-TIME:20260128T172940Z
LAST-MODIFIED;VALUE=DATE-TIME:20260128T172948Z
LOCATION:Centre Sophie Barat\, Joigny
URL:https://www.yonne.catholique.fr/christ-roi/actualite-paroissiale/Agend
 a-paroissial/recollection-des-equipes-obseques
END:VEVENT
BEGIN:VTIMEZONE
TZID:Europe/Paris
X-LIC-LOCATION:Europe/Paris
BEGIN:STANDARD
DTSTART;VALUE=DATE-TIME:20251026T020000
TZNAME:CET
TZOFFSETFROM:+0200
TZOFFSETTO:+0100
END:STANDARD
END:VTIMEZONE
END:VCALENDAR
