BEGIN:VCALENDAR
VERSION:2.0
PRODID:-//Plone.org//NONSGML plone.app.event//EN
X-WR-TIMEZONE:Europe/Paris
BEGIN:VEVENT
SUMMARY:Rencontre des EAP du doyenné
DTSTART;TZID=Europe/Paris;VALUE=DATE-TIME:20230622T193000
DTSTAMP;VALUE=DATE-TIME:20260420T092501Z
UID:f114a9165c6144539b6d54aec0d262e1@www.yonne.catholique.fr
CREATED;VALUE=DATE-TIME:20230603T150115Z
LAST-MODIFIED;VALUE=DATE-TIME:20230603T150144Z
LOCATION:Joigny
URL:https://www.yonne.catholique.fr/christ-roi/actualite-paroissiale/Agend
 a-paroissial/rencontre-des-eap-du-doyenne
END:VEVENT
BEGIN:VTIMEZONE
TZID:Europe/Paris
X-LIC-LOCATION:Europe/Paris
BEGIN:DAYLIGHT
DTSTART;VALUE=DATE-TIME:20230326T030000
TZNAME:CEST
TZOFFSETFROM:+0100
TZOFFSETTO:+0200
END:DAYLIGHT
END:VTIMEZONE
END:VCALENDAR
