BEGIN:VCALENDAR
VERSION:2.0
PRODID:-//Plone.org//NONSGML plone.app.event//EN
X-WR-TIMEZONE:Europe/Paris
BEGIN:VEVENT
SUMMARY:Répétition chants pour la messe du centenaire
DTSTART;TZID=Europe/Paris;VALUE=DATE-TIME:20250719T103000
DTEND;TZID=Europe/Paris;VALUE=DATE-TIME:20250719T113000
DTSTAMP;VALUE=DATE-TIME:20260422T063908Z
UID:eba018767fb5450fa2ecbe54ecc20b38@www.yonne.catholique.fr
CREATED;VALUE=DATE-TIME:20250627T141415Z
LAST-MODIFIED;VALUE=DATE-TIME:20250701T082610Z
LOCATION:Christ-Roi
URL:https://www.yonne.catholique.fr/christ-roi/actualite-paroissiale/Agend
 a-paroissial/repetition-chants-pour-la-messe-du-centenaire
END:VEVENT
BEGIN:VTIMEZONE
TZID:Europe/Paris
X-LIC-LOCATION:Europe/Paris
BEGIN:DAYLIGHT
DTSTART;VALUE=DATE-TIME:20250330T030000
TZNAME:CEST
TZOFFSETFROM:+0100
TZOFFSETTO:+0200
END:DAYLIGHT
END:VTIMEZONE
END:VCALENDAR
