BEGIN:VCALENDAR
VERSION:2.0
PRODID:-//Plone.org//NONSGML plone.app.event//EN
X-WR-TIMEZONE:Europe/Paris
BEGIN:VEVENT
SUMMARY:Réunion de l'EAP
DTSTART;TZID=Europe/Paris;VALUE=DATE-TIME:20240304T180000
DTEND;TZID=Europe/Paris;VALUE=DATE-TIME:20240304T200000
DTSTAMP;VALUE=DATE-TIME:20260419T181456Z
UID:6c974ae82eee4587abc54f0a31435a51@www.yonne.catholique.fr
CREATED;VALUE=DATE-TIME:20231219T091040Z
LAST-MODIFIED;VALUE=DATE-TIME:20240226T162132Z
LOCATION:Salle paroissiale
URL:https://www.yonne.catholique.fr/christ-roi/actualite-paroissiale/Agend
 a-paroissial/reunion-de-leap-5
END:VEVENT
BEGIN:VTIMEZONE
TZID:Europe/Paris
X-LIC-LOCATION:Europe/Paris
BEGIN:STANDARD
DTSTART;VALUE=DATE-TIME:20231029T020000
TZNAME:CET
TZOFFSETFROM:+0200
TZOFFSETTO:+0100
END:STANDARD
END:VTIMEZONE
END:VCALENDAR
