BEGIN:VCALENDAR
VERSION:2.0
PRODID:-//Plone.org//NONSGML plone.app.event//EN
X-WR-TIMEZONE:Europe/Paris
BEGIN:VEVENT
SUMMARY:Réunion des catéchistes
DTSTART;TZID=Europe/Paris;VALUE=DATE-TIME:20240110T180000
DTEND;TZID=Europe/Paris;VALUE=DATE-TIME:20240110T193000
DTSTAMP;VALUE=DATE-TIME:20260422T140225Z
UID:37f9e23ea83a4592a5435ed4d879833e@www.yonne.catholique.fr
CREATED;VALUE=DATE-TIME:20240105T111635Z
LAST-MODIFIED;VALUE=DATE-TIME:20240105T111729Z
LOCATION:Salle paroissiale
URL:https://www.yonne.catholique.fr/christ-roi/actualite-paroissiale/Agend
 a-paroissial/reunion-des-catechistes-1
END:VEVENT
BEGIN:VTIMEZONE
TZID:Europe/Paris
X-LIC-LOCATION:Europe/Paris
BEGIN:STANDARD
DTSTART;VALUE=DATE-TIME:20231029T020000
TZNAME:CET
TZOFFSETFROM:+0200
TZOFFSETTO:+0100
END:STANDARD
END:VTIMEZONE
END:VCALENDAR
