BEGIN:VCALENDAR
VERSION:2.0
PRODID:-//Plone.org//NONSGML plone.app.event//EN
X-WR-TIMEZONE:Europe/Paris
BEGIN:VEVENT
SUMMARY:Réunion des équipes liturgiques
DTSTART;TZID=Europe/Paris;VALUE=DATE-TIME:20260312T150000
DTEND;TZID=Europe/Paris;VALUE=DATE-TIME:20260312T160000
DTSTAMP;VALUE=DATE-TIME:20260423T013428Z
UID:8827435501f7421d908b71ea6eeb17e1@www.yonne.catholique.fr
CREATED;VALUE=DATE-TIME:20260226T203705Z
LAST-MODIFIED;VALUE=DATE-TIME:20260227T082406Z
LOCATION:Salle paroissiale
URL:https://www.yonne.catholique.fr/christ-roi/actualite-paroissiale/Agend
 a-paroissial/reunion-des-equipes-liturgiques-6
END:VEVENT
BEGIN:VTIMEZONE
TZID:Europe/Paris
X-LIC-LOCATION:Europe/Paris
BEGIN:STANDARD
DTSTART;VALUE=DATE-TIME:20251026T020000
TZNAME:CET
TZOFFSETFROM:+0200
TZOFFSETTO:+0100
END:STANDARD
END:VTIMEZONE
END:VCALENDAR
