BEGIN:VCALENDAR
VERSION:2.0
PRODID:-//Plone.org//NONSGML plone.app.event//EN
X-WR-TIMEZONE:Europe/Paris
BEGIN:VEVENT
SUMMARY:Réunion du CPAE
DTSTART;TZID=Europe/Paris;VALUE=DATE-TIME:20241204T140000
DTEND;TZID=Europe/Paris;VALUE=DATE-TIME:20241204T150000
DTSTAMP;VALUE=DATE-TIME:20260420T124401Z
UID:7b2227837bdf4e85948e8275d08de8e2@www.yonne.catholique.fr
CREATED;VALUE=DATE-TIME:20241129T120547Z
LAST-MODIFIED;VALUE=DATE-TIME:20241129T120555Z
LOCATION:salle paroissiale
URL:https://www.yonne.catholique.fr/christ-roi/actualite-paroissiale/Agend
 a-paroissial/reunion-du-cpae-1
END:VEVENT
BEGIN:VTIMEZONE
TZID:Europe/Paris
X-LIC-LOCATION:Europe/Paris
BEGIN:STANDARD
DTSTART;VALUE=DATE-TIME:20241027T020000
TZNAME:CET
TZOFFSETFROM:+0200
TZOFFSETTO:+0100
END:STANDARD
END:VTIMEZONE
END:VCALENDAR
