BEGIN:VCALENDAR
VERSION:2.0
PRODID:-//Plone.org//NONSGML plone.app.event//EN
X-WR-TIMEZONE:Europe/Paris
BEGIN:VEVENT
SUMMARY:lecture de "la Laïcité\, ça repose Dieu" (Marie-Christine Berna
 rd)
DTSTART;TZID=Europe/Vienna;VALUE=DATE-TIME:20220113T170000
DTEND;TZID=Europe/Vienna;VALUE=DATE-TIME:20220113T183000
DTSTAMP;VALUE=DATE-TIME:20260419T230056Z
UID:7482da85000e4d80bd223810dd1d2cd5@www.yonne.catholique.fr
CONTACT:Philippe\, philsc@orange.fr
CREATED;VALUE=DATE-TIME:20220110T160034Z
DESCRIPTION:lecture partagée du livre
LAST-MODIFIED;VALUE=DATE-TIME:20220110T163337Z
LOCATION:Puits d'Hiver - Chichery
URL:https://www.yonne.catholique.fr/le-puits-d-hiver/actualite/groupe-de-l
 ectures-et-dechanges/lecture-de-la-laicite-ca-repose-dieu-lmarie-christine
 -bernard
END:VEVENT
BEGIN:VTIMEZONE
TZID:Europe/Vienna
X-LIC-LOCATION:Europe/Vienna
BEGIN:STANDARD
DTSTART;VALUE=DATE-TIME:20211031T020000
TZNAME:CET
TZOFFSETFROM:+0200
TZOFFSETTO:+0100
END:STANDARD
END:VTIMEZONE
END:VCALENDAR
