BEGIN:VCALENDAR
VERSION:2.0
PRODID:-//Plone.org//NONSGML plone.app.event//EN
X-WR-TIMEZONE:Europe/Paris
BEGIN:VEVENT
SUMMARY:Scène Ouverte
DTSTART;TZID=Europe/Vienna;VALUE=DATE-TIME:20220423T200000
DTEND;TZID=Europe/Vienna;VALUE=DATE-TIME:20220423T220000
DTSTAMP;VALUE=DATE-TIME:20260420T163843Z
UID:2889be6ac79c426e94942b938c145e01@www.yonne.catholique.fr
CONTACT:Christian\, christian-canavesio@orange.fr
CREATED;VALUE=DATE-TIME:20220322T163050Z
DESCRIPTION:Nous avons partagé nos créativités !\n
LAST-MODIFIED;VALUE=DATE-TIME:20220429T162248Z
LOCATION:Puits d'Hiver - Chichery
URL:https://www.yonne.catholique.fr/le-puits-d-hiver/actualite/vos-questio
 ns/scene-ouverte
END:VEVENT
BEGIN:VTIMEZONE
TZID:Europe/Vienna
X-LIC-LOCATION:Europe/Vienna
BEGIN:DAYLIGHT
DTSTART;VALUE=DATE-TIME:20220327T030000
TZNAME:CEST
TZOFFSETFROM:+0100
TZOFFSETTO:+0200
END:DAYLIGHT
END:VTIMEZONE
END:VCALENDAR
