BEGIN:VCALENDAR
VERSION:2.0
PRODID:-//Plone.org//NONSGML plone.app.event//EN
X-WR-TIMEZONE:Europe/Paris
BEGIN:VEVENT
SUMMARY:Laudato Si en Actes - le Numérique
DTSTART;TZID=Europe/Vienna;VALUE=DATE-TIME:20220125T180000
DTEND;TZID=Europe/Vienna;VALUE=DATE-TIME:20220125T183000
DTSTAMP;VALUE=DATE-TIME:20260419T171735Z
UID:bcabb982664e42dcaf9ae462b2d9f32f@www.yonne.catholique.fr
CONTACT:Maryline\, maryline.clouet@wanadoo.fr\, maryline.clouet@wanadoo.fr
CREATED;VALUE=DATE-TIME:20220110T160654Z
DESCRIPTION:Numérique et Écologie 
LAST-MODIFIED;VALUE=DATE-TIME:20220426T075121Z
LOCATION:Puits d'Hiver - Chichery
URL:https://www.yonne.catholique.fr/le-puits-d-hiver/eglise-verte/laudato-
 si-en-actes
END:VEVENT
BEGIN:VTIMEZONE
TZID:Europe/Vienna
X-LIC-LOCATION:Europe/Vienna
BEGIN:STANDARD
DTSTART;VALUE=DATE-TIME:20211031T020000
TZNAME:CET
TZOFFSETFROM:+0200
TZOFFSETTO:+0100
END:STANDARD
END:VTIMEZONE
END:VCALENDAR
