BEGIN:VCALENDAR
VERSION:2.0
PRODID:-//Plone.org//NONSGML plone.app.event//EN
X-WR-TIMEZONE:Europe/Paris
BEGIN:VEVENT
SUMMARY: SEMAINE 17 DU 20 AU 27 AVRIL 2025
DTSTART;TZID=Europe/Paris;VALUE=DATE-TIME:20250420T000000
DTEND;TZID=Europe/Paris;VALUE=DATE-TIME:20250427T000000
DTSTAMP;VALUE=DATE-TIME:20260421T085048Z
UID:842d6eb0dd6840698a275e69dba708c8@www.yonne.catholique.fr
CREATED;VALUE=DATE-TIME:20250414T082052Z
LAST-MODIFIED;VALUE=DATE-TIME:20250414T085000Z
URL:https://www.yonne.catholique.fr/notre-dame-3-vallees/actualite-paroiss
 iale/agenda/semaine-17-du-20-au-27-avril-2025
END:VEVENT
BEGIN:VTIMEZONE
TZID:Europe/Paris
X-LIC-LOCATION:Europe/Paris
BEGIN:DAYLIGHT
DTSTART;VALUE=DATE-TIME:20250330T030000
TZNAME:CEST
TZOFFSETFROM:+0100
TZOFFSETTO:+0200
END:DAYLIGHT
END:VTIMEZONE
END:VCALENDAR
