BEGIN:VCALENDAR
VERSION:2.0
PRODID:-//Plone.org//NONSGML plone.app.event//EN
X-WR-TIMEZONE:Europe/Paris
BEGIN:VEVENT
SUMMARY:Atelier Lecture - Dieu a tant aimé le monde\, petite théologie d
 e la mission
DTSTART;TZID=Europe/Paris;VALUE=DATE-TIME:20241114T203000
DTEND;TZID=Europe/Paris;VALUE=DATE-TIME:20241114T220000
DTSTAMP;VALUE=DATE-TIME:20260424T142723Z
UID:28259111f87b4040a7bfe914444e1266@www.yonne.catholique.fr
ATTENDEE;CN="Père François Campagnac";ROLE=REQ-PARTICIPANT:Père Franço
 is Campagnac
ATTENDEE;CN=Théo;ROLE=REQ-PARTICIPANT:Théo
CREATED;VALUE=DATE-TIME:20241031T154157Z
DESCRIPTION:Venez échanger à partir de la lecture du livre « Dieu a ta
 nt aimé le monde » du cardinal Jean-Marc Aveline\, archevêque de Marse
 ille.\n
LAST-MODIFIED;VALUE=DATE-TIME:20241105T130013Z
LOCATION:Prieuré de Montréal
URL:https://www.yonne.catholique.fr/notre-dame-montreal/actualite-paroissi
 ale/agenda/atelier-lecture-dieu-a-tant-aime-le-monde-petite-theologie-de-l
 a-mission
END:VEVENT
BEGIN:VTIMEZONE
TZID:Europe/Paris
X-LIC-LOCATION:Europe/Paris
BEGIN:STANDARD
DTSTART;VALUE=DATE-TIME:20241027T020000
TZNAME:CET
TZOFFSETFROM:+0200
TZOFFSETTO:+0100
END:STANDARD
END:VTIMEZONE
END:VCALENDAR
