BEGIN:VCALENDAR
VERSION:2.0
PRODID:-//Plone.org//NONSGML plone.app.event//EN
X-WR-TIMEZONE:Europe/Paris
BEGIN:VEVENT
SUMMARY:Ateliers Évangile
DTSTART;VALUE=DATE-TIME:20230118T150000Z
DTEND;VALUE=DATE-TIME:20230118T170000Z
DTSTAMP;VALUE=DATE-TIME:20260420T204832Z
UID:6he5s204hj3uqeec98kh89bo99@google.com
CREATED;VALUE=DATE-TIME:20230117T103904Z
LAST-MODIFIED;VALUE=DATE-TIME:20230117T103932Z
LOCATION:Maison paroissiale 6 rue de Lyon à Avallon
URL:https://www.yonne.catholique.fr/notre-dame-montreal/actualite-paroissi
 ale/agenda/ateliers-evangile-3
END:VEVENT
END:VCALENDAR
