BEGIN:VCALENDAR
VERSION:2.0
PRODID:-//Plone.org//NONSGML plone.app.event//EN
X-WR-TIMEZONE:Europe/Paris
BEGIN:VEVENT
SUMMARY:Baptême
DTSTART;VALUE=DATE:20230520
DTEND;VALUE=DATE:20230522
DTSTAMP;VALUE=DATE-TIME:20260422T111357Z
UID:3070k1mpbrmcompd0lt9tpdmcb@google.com
CREATED;VALUE=DATE-TIME:20230117T102755Z
LAST-MODIFIED;VALUE=DATE-TIME:20230117T103011Z
LOCATION:ND de Montréal
URL:https://www.yonne.catholique.fr/notre-dame-montreal/actualite-paroissi
 ale/agenda/bapteme-2
END:VEVENT
END:VCALENDAR
