BEGIN:VCALENDAR
VERSION:2.0
PRODID:-//Plone.org//NONSGML plone.app.event//EN
X-WR-TIMEZONE:Europe/Paris
BEGIN:VEVENT
SUMMARY:Baptême
DTSTART;VALUE=DATE:20230518
DTEND;VALUE=DATE:20230519
DTSTAMP;VALUE=DATE-TIME:20260420T190322Z
UID:5tr6ggn98ffn2uj4tm1cq1qc1k@google.com
CREATED;VALUE=DATE-TIME:20230117T102755Z
LAST-MODIFIED;VALUE=DATE-TIME:20230117T103011Z
LOCATION:ND de Montréal
URL:https://www.yonne.catholique.fr/notre-dame-montreal/actualite-paroissi
 ale/agenda/bapteme-4
END:VEVENT
END:VCALENDAR
