BEGIN:VCALENDAR
VERSION:2.0
PRODID:-//Plone.org//NONSGML plone.app.event//EN
X-WR-TIMEZONE:Europe/Paris
BEGIN:VEVENT
SUMMARY:Baptême
DTSTART;VALUE=DATE:20230225
DTEND;VALUE=DATE:20230227
DTSTAMP;VALUE=DATE-TIME:20260420T171216Z
UID:7mgs2tatm9q6dpmtt6mqda7muj@google.com
CREATED;VALUE=DATE-TIME:20230117T102935Z
LAST-MODIFIED;VALUE=DATE-TIME:20230117T103010Z
LOCATION:ND de Montréal
URL:https://www.yonne.catholique.fr/notre-dame-montreal/actualite-paroissi
 ale/agenda/bapteme-8
END:VEVENT
END:VCALENDAR
