BEGIN:VCALENDAR
VERSION:2.0
PRODID:-//Plone.org//NONSGML plone.app.event//EN
X-WR-TIMEZONE:Europe/Paris
BEGIN:VEVENT
SUMMARY:Chantiers éducation
DTSTART;VALUE=DATE-TIME:20230228T200000Z
DTEND;VALUE=DATE-TIME:20230228T210000Z
DTSTAMP;VALUE=DATE-TIME:20260425T024258Z
UID:4odqnkrllqrpkt50svludpnk46@google.com
CREATED;VALUE=DATE-TIME:20230117T103902Z
LAST-MODIFIED;VALUE=DATE-TIME:20230216T144708Z
LOCATION:Maison paroissiale 6 rue de Lyon à Avallon
URL:https://www.yonne.catholique.fr/notre-dame-montreal/actualite-paroissi
 ale/agenda/chantiers-education
END:VEVENT
END:VCALENDAR
