BEGIN:VCALENDAR
VERSION:2.0
PRODID:-//Plone.org//NONSGML plone.app.event//EN
X-WR-TIMEZONE:Europe/Paris
BEGIN:VEVENT
SUMMARY:Concert de l'Ensemble Ica Onna
DTSTART;TZID=Europe/Paris;VALUE=DATE-TIME:20221029T180000
DTSTAMP;VALUE=DATE-TIME:20260424T140409Z
UID:b735c1d5286244eaa61633278d5773ae@www.yonne.catholique.fr
CREATED;VALUE=DATE-TIME:20221007T204240Z
LAST-MODIFIED;VALUE=DATE-TIME:20221007T204300Z
LOCATION:Église de Ste Colombe
URL:https://www.yonne.catholique.fr/notre-dame-montreal/actualite-paroissi
 ale/agenda/concert-de-lensemble-ica-onna
END:VEVENT
BEGIN:VTIMEZONE
TZID:Europe/Paris
X-LIC-LOCATION:Europe/Paris
BEGIN:DAYLIGHT
DTSTART;VALUE=DATE-TIME:20220327T030000
TZNAME:CEST
TZOFFSETFROM:+0100
TZOFFSETTO:+0200
END:DAYLIGHT
END:VTIMEZONE
END:VCALENDAR
