BEGIN:VCALENDAR
VERSION:2.0
PRODID:-//Plone.org//NONSGML plone.app.event//EN
X-WR-TIMEZONE:Europe/Paris
BEGIN:VEVENT
SUMMARY:Fête du Pardon. 2éme étape vers le baptême des enfants depuis 
 le CE1
DTSTART;TZID=Europe/Paris;VALUE=DATE-TIME:20250412T140000
DTEND;TZID=Europe/Paris;VALUE=DATE-TIME:20250412T180000
DTSTAMP;VALUE=DATE-TIME:20260423T221421Z
UID:2d2f9eb68fca4380bbaac8e3173bf2ec@www.yonne.catholique.fr
CONTACT:Jérôme Pinot\, 06 14 37 82 25\, kt.avallonnais@gmail.com
CREATED;VALUE=DATE-TIME:20250407T204931Z
LAST-MODIFIED;VALUE=DATE-TIME:20250407T205033Z
LOCATION:Eglise de Vassy
URL:https://www.yonne.catholique.fr/notre-dame-montreal/actualite-paroissi
 ale/agenda/fete-du-pardon-2eme-etape-vers-le-bapteme-des-enfants-depuis-le
 -ce1
END:VEVENT
BEGIN:VTIMEZONE
TZID:Europe/Paris
X-LIC-LOCATION:Europe/Paris
BEGIN:DAYLIGHT
DTSTART;VALUE=DATE-TIME:20250330T030000
TZNAME:CEST
TZOFFSETFROM:+0100
TZOFFSETTO:+0200
END:DAYLIGHT
END:VTIMEZONE
END:VCALENDAR
