BEGIN:VCALENDAR
VERSION:2.0
PRODID:-//Plone.org//NONSGML plone.app.event//EN
X-WR-TIMEZONE:Europe/Paris
BEGIN:VEVENT
SUMMARY:jeudi saint
DTSTART;TZID=Europe/Paris;VALUE=DATE-TIME:20230306T140000
DTEND;TZID=Europe/Paris;VALUE=DATE-TIME:20230406T183000
DTSTAMP;VALUE=DATE-TIME:20260421T150438Z
UID:f8a526cbdb654f8aa8e2bf720bf4c670@www.yonne.catholique.fr
CONTACT:jerome Pinot\, 0614378225\, kt.avallonnais@gmail.com
CREATED;VALUE=DATE-TIME:20230331T130616Z
DESCRIPTION:messe en famille du jeudi saint etape 1er communion
LAST-MODIFIED;VALUE=DATE-TIME:20230331T130644Z
LOCATION:Montreal collegiale
URL:https://www.yonne.catholique.fr/notre-dame-montreal/actualite-paroissi
 ale/agenda/jeudi-saint
END:VEVENT
BEGIN:VTIMEZONE
TZID:Europe/Paris
X-LIC-LOCATION:Europe/Paris
BEGIN:DAYLIGHT
DTSTART;VALUE=DATE-TIME:20230326T030000
TZNAME:CEST
TZOFFSETFROM:+0100
TZOFFSETTO:+0200
END:DAYLIGHT
BEGIN:STANDARD
DTSTART;VALUE=DATE-TIME:20221030T020000
TZNAME:CET
TZOFFSETFROM:+0200
TZOFFSETTO:+0100
END:STANDARD
END:VTIMEZONE
END:VCALENDAR
