BEGIN:VCALENDAR
VERSION:2.0
PRODID:-//Plone.org//NONSGML plone.app.event//EN
X-WR-TIMEZONE:Europe/Paris
BEGIN:VEVENT
SUMMARY:Messe des Défunts
DTSTART;TZID=Europe/Paris;VALUE=DATE-TIME:20221102T183000
DTSTAMP;VALUE=DATE-TIME:20260421T002023Z
UID:ce71f1f4aac04e04a1f26e7a33604402@www.yonne.catholique.fr
CREATED;VALUE=DATE-TIME:20221007T204745Z
LAST-MODIFIED;VALUE=DATE-TIME:20221007T204756Z
LOCATION:Collégiale de Montréal
URL:https://www.yonne.catholique.fr/notre-dame-montreal/actualite-paroissi
 ale/agenda/messe-des-defunts
END:VEVENT
BEGIN:VTIMEZONE
TZID:Europe/Paris
X-LIC-LOCATION:Europe/Paris
BEGIN:STANDARD
DTSTART;VALUE=DATE-TIME:20221030T020000
TZNAME:CET
TZOFFSETFROM:+0200
TZOFFSETTO:+0100
END:STANDARD
END:VTIMEZONE
END:VCALENDAR
