BEGIN:VCALENDAR
VERSION:2.0
PRODID:-//Plone.org//NONSGML plone.app.event//EN
X-WR-TIMEZONE:Europe/Paris
BEGIN:VEVENT
SUMMARY:Messe en Famille Première étape liturgique vers la Première des
  Communions
DTSTART;TZID=Europe/Paris;VALUE=DATE-TIME:20231209T180000
DTEND;TZID=Europe/Paris;VALUE=DATE-TIME:20231209T190000
DTSTAMP;VALUE=DATE-TIME:20260424T224953Z
UID:4daa36e08ad446a58ad3f30b4aa640e2@www.yonne.catholique.fr
CONTACT:Jérôme Pinot\, 0614378225\, kt.avallonnais@gmail.com
CREATED;VALUE=DATE-TIME:20231130T103644Z
LAST-MODIFIED;VALUE=DATE-TIME:20231130T103705Z
LOCATION:Saint Martin d'Avallon
URL:https://www.yonne.catholique.fr/notre-dame-montreal/actualite-paroissi
 ale/agenda/messe-en-famille-premiere-etape-liturgique-de-la-premiere-des-c
 ommunions
END:VEVENT
BEGIN:VTIMEZONE
TZID:Europe/Paris
X-LIC-LOCATION:Europe/Paris
BEGIN:STANDARD
DTSTART;VALUE=DATE-TIME:20231029T020000
TZNAME:CET
TZOFFSETFROM:+0200
TZOFFSETTO:+0100
END:STANDARD
END:VTIMEZONE
END:VCALENDAR
