BEGIN:VCALENDAR
VERSION:2.0
PRODID:-//Plone.org//NONSGML plone.app.event//EN
X-WR-TIMEZONE:Europe/Paris
BEGIN:VEVENT
SUMMARY:Fête de l'immaculée conception
DTSTART;TZID=Europe/Paris;VALUE=DATE-TIME:20241209T200000
DTEND;TZID=Europe/Paris;VALUE=DATE-TIME:20241209T220000
DTSTAMP;VALUE=DATE-TIME:20260422T182832Z
UID:01e408a1d3a648c988331570c99932af@www.yonne.catholique.fr
CREATED;VALUE=DATE-TIME:20241107T093353Z
DESCRIPTION:Lundi 9 décembre à 20h : messe de l'Immaculée Conception à
  St Eusèbe animée par les Équipes Notre-Dame et suivie d'un vin chaud. 
LAST-MODIFIED;VALUE=DATE-TIME:20241107T093653Z
LOCATION:St Eusèbe
URL:https://www.yonne.catholique.fr/paroisse-saint-germain-auxerre/la-vie-
 paroissiale/archives/fete-de-limmaculee-conception
END:VEVENT
BEGIN:VTIMEZONE
TZID:Europe/Paris
X-LIC-LOCATION:Europe/Paris
BEGIN:STANDARD
DTSTART;VALUE=DATE-TIME:20241027T020000
TZNAME:CET
TZOFFSETFROM:+0200
TZOFFSETTO:+0100
END:STANDARD
END:VTIMEZONE
END:VCALENDAR
