BEGIN:VCALENDAR
VERSION:2.0
PRODID:-//Plone.org//NONSGML plone.app.event//EN
X-WR-TIMEZONE:Europe/Paris
BEGIN:VEVENT
SUMMARY:Conférence : Camille et les saintes femmes
DTSTART;TZID=Europe/Paris;VALUE=DATE-TIME:20240907T173000
DTSTAMP;VALUE=DATE-TIME:20260423T103023Z
UID:1f7d01c1e4834d6ba9fffd5ce2496f4a@www.yonne.catholique.fr
ATTENDEE;CN="Patrice Wahlen, historien";ROLE=REQ-PARTICIPANT:Patrice Wahle
 n, historien
CREATED;VALUE=DATE-TIME:20240902T132045Z
DESCRIPTION:Nous sommes attendus nombreux à la conférence donnée par Pa
 trice Wahlen sur “Camille et les saintes femmes” qui ramenèrent d’I
 talie le corps de saint Germain\, évêque d’Auxerre\, en l’an 448.
LAST-MODIFIED;VALUE=DATE-TIME:20240902T135936Z
LOCATION:Église d'Escolives-Sainte-Camille
URL:https://www.yonne.catholique.fr/paroisse-saint-germain-auxerre/la-vie-
 paroissiale/conference-camille-et-les-saintes-femmes
END:VEVENT
BEGIN:VTIMEZONE
TZID:Europe/Paris
X-LIC-LOCATION:Europe/Paris
BEGIN:DAYLIGHT
DTSTART;VALUE=DATE-TIME:20240331T030000
TZNAME:CEST
TZOFFSETFROM:+0100
TZOFFSETTO:+0200
END:DAYLIGHT
END:VTIMEZONE
END:VCALENDAR
