BEGIN:VCALENDAR
VERSION:2.0
PRODID:-//Plone.org//NONSGML plone.app.event//EN
X-WR-TIMEZONE:Europe/Paris
BEGIN:VEVENT
SUMMARY:Adoration paroissiale du 7 Juin
DTSTART;TZID=Europe/Paris;VALUE=DATE-TIME:20260607T173000
DTEND;TZID=Europe/Paris;VALUE=DATE-TIME:20260607T183000
DTSTAMP;VALUE=DATE-TIME:20260425T044936Z
UID:8b11c2b730fb413695c1a50fa127843a@www.yonne.catholique.fr
CREATED;VALUE=DATE-TIME:20260424T101130Z
LAST-MODIFIED;VALUE=DATE-TIME:20260424T101654Z
URL:https://www.yonne.catholique.fr/paroisse-saint-germain-auxerre/la-vie-
 paroissiale/les-evenements-de-la-paroisse/adoration-paroissiale-du-7-juin
END:VEVENT
BEGIN:VTIMEZONE
TZID:Europe/Paris
X-LIC-LOCATION:Europe/Paris
BEGIN:DAYLIGHT
DTSTART;VALUE=DATE-TIME:20260329T030000
TZNAME:CEST
TZOFFSETFROM:+0100
TZOFFSETTO:+0200
END:DAYLIGHT
END:VTIMEZONE
END:VCALENDAR
