BEGIN:VCALENDAR
VERSION:2.0
PRODID:-//Plone.org//NONSGML plone.app.event//EN
X-WR-TIMEZONE:Europe/Paris
BEGIN:VEVENT
SUMMARY:Adoration paroissiale du 3 Mai
DTSTART;TZID=Europe/Paris;VALUE=DATE-TIME:20260503T173000
DTEND;TZID=Europe/Paris;VALUE=DATE-TIME:20260503T183000
DTSTAMP;VALUE=DATE-TIME:20260425T130305Z
UID:ce52abd9c1ed4a4baa933874f94466ad@www.yonne.catholique.fr
CREATED;VALUE=DATE-TIME:20260424T100630Z
DESCRIPTION: La paroisse vous invite chaque mois à venir adorer ensemble 
 notre Seigneur\, ne manquez pas ces moments privilégiés de cœur à cœu
 r avec lui! 
LAST-MODIFIED;VALUE=DATE-TIME:20260424T100844Z
URL:https://www.yonne.catholique.fr/paroisse-saint-germain-auxerre/la-vie-
 paroissiale/les-evenements-de-la-paroisse/adoration-paroissiale
END:VEVENT
BEGIN:VTIMEZONE
TZID:Europe/Paris
X-LIC-LOCATION:Europe/Paris
BEGIN:DAYLIGHT
DTSTART;VALUE=DATE-TIME:20260329T030000
TZNAME:CEST
TZOFFSETFROM:+0100
TZOFFSETTO:+0200
END:DAYLIGHT
END:VTIMEZONE
END:VCALENDAR
