BEGIN:VCALENDAR
VERSION:2.0
PRODID:-//Plone.org//NONSGML plone.app.event//EN
X-WR-TIMEZONE:Europe/Paris
BEGIN:VEVENT
SUMMARY:Fête de la musique 2026 
DTSTART;VALUE=DATE:20260621
DTEND;VALUE=DATE:20260622
DTSTAMP;VALUE=DATE-TIME:20260425T130305Z
UID:8c3d68cb7cda4316800f9d237b3ea438@www.yonne.catholique.fr
CREATED;VALUE=DATE-TIME:20260424T092636Z
LAST-MODIFIED;VALUE=DATE-TIME:20260424T143431Z
LOCATION:Cathédrale Saint Etienne
URL:https://www.yonne.catholique.fr/paroisse-saint-germain-auxerre/la-vie-
 paroissiale/les-evenements-de-la-paroisse/fete-de-la-musique-2026
END:VEVENT
END:VCALENDAR
