BEGIN:VCALENDAR
VERSION:2.0
PRODID:-//Plone.org//NONSGML plone.app.event//EN
X-WR-TIMEZONE:Europe/Paris
BEGIN:VEVENT
SUMMARY:Kermesse paroissiale
DTSTART;TZID=Europe/Paris;VALUE=DATE-TIME:20260614T113000
DTEND;TZID=Europe/Paris;VALUE=DATE-TIME:20260614T123000
DTSTAMP;VALUE=DATE-TIME:20260425T130305Z
UID:31b639c15c7a4eff8e5d5873e644d4b1@www.yonne.catholique.fr
CREATED;VALUE=DATE-TIME:20260424T094427Z
LAST-MODIFIED;VALUE=DATE-TIME:20260424T143814Z
LOCATION:Place de l'Abbé Deschamps (Portail Nord de la Cathédrale)
URL:https://www.yonne.catholique.fr/paroisse-saint-germain-auxerre/la-vie-
 paroissiale/les-evenements-de-la-paroisse/kermesse-paroissiale
END:VEVENT
BEGIN:VTIMEZONE
TZID:Europe/Paris
X-LIC-LOCATION:Europe/Paris
BEGIN:DAYLIGHT
DTSTART;VALUE=DATE-TIME:20260329T030000
TZNAME:CEST
TZOFFSETFROM:+0100
TZOFFSETTO:+0200
END:DAYLIGHT
END:VTIMEZONE
END:VCALENDAR
