BEGIN:VCALENDAR
VERSION:2.0
PRODID:-//Plone.org//NONSGML plone.app.event//EN
X-WR-TIMEZONE:Europe/Paris
BEGIN:VEVENT
SUMMARY:Ordination diaconale de François-Xavier Boulard
DTSTART;TZID=Europe/Paris;VALUE=DATE-TIME:20260628T153000
DTSTAMP;VALUE=DATE-TIME:20260425T044936Z
UID:662f73a38ba044898771df064e2a393d@www.yonne.catholique.fr
CREATED;VALUE=DATE-TIME:20260424T095906Z
LAST-MODIFIED;VALUE=DATE-TIME:20260424T143231Z
LOCATION:Cathédrale Saint Etienne
URL:https://www.yonne.catholique.fr/paroisse-saint-germain-auxerre/la-vie-
 paroissiale/les-evenements-de-la-paroisse/ordination-diaconale-de-francois
 -xavier-boulard
END:VEVENT
BEGIN:VTIMEZONE
TZID:Europe/Paris
X-LIC-LOCATION:Europe/Paris
BEGIN:DAYLIGHT
DTSTART;VALUE=DATE-TIME:20260329T030000
TZNAME:CEST
TZOFFSETFROM:+0100
TZOFFSETTO:+0200
END:DAYLIGHT
END:VTIMEZONE
END:VCALENDAR
