BEGIN:VCALENDAR
VERSION:2.0
PRODID:-//Plone.org//NONSGML plone.app.event//EN
X-WR-TIMEZONE:Europe/Paris
BEGIN:VEVENT
SUMMARY:Veillée de prière pour les vocations
DTSTART;VALUE=DATE:20260627
DTEND;VALUE=DATE:20260628
DTSTAMP;VALUE=DATE-TIME:20260425T044936Z
UID:f3bab0acb45b42308c87b40befe39dc3@www.yonne.catholique.fr
CREATED;VALUE=DATE-TIME:20260424T095627Z
LAST-MODIFIED;VALUE=DATE-TIME:20260424T143355Z
LOCATION:Cathédrale Saint Etienne
URL:https://www.yonne.catholique.fr/paroisse-saint-germain-auxerre/la-vie-
 paroissiale/les-evenements-de-la-paroisse/veillee-de-priere-pour-les-vocat
 ions
END:VEVENT
END:VCALENDAR
