BEGIN:VCALENDAR
VERSION:2.0
PRODID:-//Plone.org//NONSGML plone.app.event//EN
X-WR-TIMEZONE:Europe/Paris
BEGIN:VEVENT
SUMMARY:Messe dominicale à la cathédrale d'AUXERRE
DTSTART;TZID=Europe/Paris;VALUE=DATE-TIME:20240324T103000
DTSTAMP;VALUE=DATE-TIME:20260425T133604Z
UID:5b7c40b4cd6f491ebda6c260bb0f2bfd@www.yonne.catholique.fr
CREATED;VALUE=DATE-TIME:20240105T090236Z
DESCRIPTION:ATTENTION : À partir du dimanche 24 mars 2024 (dimanche des R
 ameaux) la messe dominicale sera célébrée à 10h30 à la cathédrale.
LAST-MODIFIED;VALUE=DATE-TIME:20240311T190419Z
LOCATION:Cathédrale Saint-Étienne à AUXERRE
URL:https://www.yonne.catholique.fr/paroisse-saint-germain-auxerre/la-vie-
 paroissiale/messes-dans-la-paroisse-saint-germain-dauxerre/messe-dominical
 e-a-la-cathedrale-dauxerre
END:VEVENT
BEGIN:VTIMEZONE
TZID:Europe/Paris
X-LIC-LOCATION:Europe/Paris
BEGIN:STANDARD
DTSTART;VALUE=DATE-TIME:20231029T020000
TZNAME:CET
TZOFFSETFROM:+0200
TZOFFSETTO:+0100
END:STANDARD
END:VTIMEZONE
END:VCALENDAR
