BEGIN:VCALENDAR
VERSION:2.0
PRODID:-//Plone.org//NONSGML plone.app.event//EN
X-WR-TIMEZONE:Europe/Paris
BEGIN:VEVENT
SUMMARY:Rencontre Apostolos
DTSTART;TZID=Europe/Paris;VALUE=DATE-TIME:20260522T183000
DTEND;TZID=Europe/Paris;VALUE=DATE-TIME:20260522T213000
DTSTAMP;VALUE=DATE-TIME:20260420T142553Z
UID:cfbf51e1a6cf49c4a43fa8df3c91eef7@www.yonne.catholique.fr
CONTACT:FRANÇOIS-XAVIER\, 06 50 02 90 26\, APOSTOLOSSAINTGERMAIN@PAROISSE
 S89.FR
CREATED;VALUE=DATE-TIME:20260326T092108Z
DESCRIPTION:Tu veux renforcer ta foi et rencontrer des chrétiens?\nUnique
 ment collégiens et lycéens chrétiens d'Auxerre
LAST-MODIFIED;VALUE=DATE-TIME:20260326T093259Z
LOCATION:PLACE ABBÉ DESCHAMPS - AUXERRE
URL:https://www.yonne.catholique.fr/paroisse-saint-germain-auxerre/la-vie-
 paroissiale/rencontre-apostolos/2026-05-22
END:VEVENT
BEGIN:VTIMEZONE
TZID:Europe/Paris
X-LIC-LOCATION:Europe/Paris
BEGIN:DAYLIGHT
DTSTART;VALUE=DATE-TIME:20260329T030000
TZNAME:CEST
TZOFFSETFROM:+0100
TZOFFSETTO:+0200
END:DAYLIGHT
END:VTIMEZONE
END:VCALENDAR
