BEGIN:VCALENDAR
VERSION:2.0
PRODID:-//Plone.org//NONSGML plone.app.event//EN
X-WR-TIMEZONE:Europe/Paris
BEGIN:VEVENT
SUMMARY:Ateliers Evangile : 3ème rencontre Auxerre
DTSTART;TZID=Europe/Vienna;VALUE=DATE-TIME:20220401T203000
DTEND;TZID=Europe/Vienna;VALUE=DATE-TIME:20220401T203000
DTSTAMP;VALUE=DATE-TIME:20260423T110831Z
UID:32b74cb431de4a6f8386794f48150bb4@www.yonne.catholique.fr
ATTENDEE;CN="P. François Campagnac";ROLE=REQ-PARTICIPANT:P. François Cam
 pagnac
CONTACT:Service diocésain de la Formation du diocèse de Sens & Auxerre\,
  formations@diocese89.fr
CREATED;VALUE=DATE-TIME:20211209T072135Z
DESCRIPTION:Pour accompagner la mise en route des rencontres de l'année a
 utour des lettres de saint Paul\, le service de la Formation permanente pr
 opose des “Ateliers Évangile” : en quatre rencontres entre janvier et
  mai 2022\, ces séances ont pour objectif de nous familiariser avec saint
  Paul à travers sa lettre aux Philippiens.
LAST-MODIFIED;VALUE=DATE-TIME:20220110T110441Z
LOCATION:Auxerre : salle Marie-Noël (47\, rue de Paris)
URL:https://www.yonne.catholique.fr/paroisse-saint-germain-auxerre/paramet
 rages/copy14_of_ateliers-evangile-1ere-rencontre
END:VEVENT
BEGIN:VTIMEZONE
TZID:Europe/Vienna
X-LIC-LOCATION:Europe/Vienna
BEGIN:DAYLIGHT
DTSTART;VALUE=DATE-TIME:20220327T030000
TZNAME:CEST
TZOFFSETFROM:+0100
TZOFFSETTO:+0200
END:DAYLIGHT
END:VTIMEZONE
END:VCALENDAR
