BEGIN:VCALENDAR
VERSION:2.0
PRODID:-//Plone.org//NONSGML plone.app.event//EN
X-WR-TIMEZONE:Europe/Paris
BEGIN:VEVENT
SUMMARY:Prière pour les vocations
DTSTART;TZID=Europe/Paris;VALUE=DATE-TIME:20250605T173000
DTSTAMP;VALUE=DATE-TIME:20260424T054517Z
UID:2ca9d54f3c2f4a77a9e0eb11c8b7ecf0@www.yonne.catholique.fr
CREATED;VALUE=DATE-TIME:20230928T191037Z
DESCRIPTION:Venez nombreux !\nPrier pour nos prêtres et demander des voca
 tions par l’intercession de St Jean-Marie Vianney !
LAST-MODIFIED;VALUE=DATE-TIME:20250410T081951Z
LOCATION:Abbaye Saint-Germain
URL:https://www.yonne.catholique.fr/paroisse-saint-germain-auxerre/vie-chr
 etienne/priere-pour-les-vocations/2025-06-05
END:VEVENT
BEGIN:VTIMEZONE
TZID:Europe/Paris
X-LIC-LOCATION:Europe/Paris
BEGIN:DAYLIGHT
DTSTART;VALUE=DATE-TIME:20250330T030000
TZNAME:CEST
TZOFFSETFROM:+0100
TZOFFSETTO:+0200
END:DAYLIGHT
END:VTIMEZONE
END:VCALENDAR
