BEGIN:VCALENDAR
VERSION:2.0
PRODID:-//Plone.org//NONSGML plone.app.event//EN
X-WR-TIMEZONE:Europe/Paris
BEGIN:VEVENT
SUMMARY:Prière pour les vocations
DTSTART;TZID=Europe/Paris;VALUE=DATE-TIME:20250502T173000
DTSTAMP;VALUE=DATE-TIME:20260420T084750Z
UID:2ca9d54f3c2f4a77a9e0eb11c8b7ecf0@www.yonne.catholique.fr
RRULE:FREQ=MONTHLY;UNTIL=20250610T000000;BYDAY=+1TH
EXDATE;TZID=Europe/Paris:20240405T000000,20240503T000000,20240607T000000,2
 0240705T000000,20240802T000000,20240905T000000,20240906T000000,20241003T00
 0000,20241004T000000,20241101T000000,20241107T000000,20241205T000000,20241
 206T000000,20250102T000000,20250103T000000
CREATED;VALUE=DATE-TIME:20230928T191037Z
DESCRIPTION:Venez nombreux !\nPrier pour nos prêtres et demander des voca
 tions par l’intercession de St Jean-Marie Vianney !
LAST-MODIFIED;VALUE=DATE-TIME:20250410T081951Z
LOCATION:Abbaye Saint-Germain
URL:https://www.yonne.catholique.fr/paroisse-saint-germain-auxerre/vie-chr
 etienne/priere-pour-les-vocations
END:VEVENT
BEGIN:VTIMEZONE
TZID:Europe/Paris
X-LIC-LOCATION:Europe/Paris
BEGIN:DAYLIGHT
DTSTART;VALUE=DATE-TIME:20250330T030000
TZNAME:CEST
TZOFFSETFROM:+0100
TZOFFSETTO:+0200
END:DAYLIGHT
END:VTIMEZONE
END:VCALENDAR
