BEGIN:VCALENDAR
VERSION:2.0
PRODID:-//Plone.org//NONSGML plone.app.event//EN
X-WR-TIMEZONE:Europe/Paris
BEGIN:VEVENT
SUMMARY:Pèlerinage à ARS
DTSTART;VALUE=DATE:20260207
DTEND;VALUE=DATE:20260208
DTSTAMP;VALUE=DATE-TIME:20260420T182240Z
UID:95751ca7476941a69da2b114ec098929@www.yonne.catholique.fr
ATTENDEE;CN="Participation souhaitée aux frais de transport :";ROLE=REQ-P
 ARTICIPANT:Participation souhaitée aux frais de transport :
ATTENDEE;CN="Adulte : 35 € ; tarif solidaire : 10 à 20 €";ROLE=REQ-PA
 RTICIPANT:Adulte : 35 € ; tarif solidaire : 10 à 20 €
ATTENDEE;CN="Enfant : 5 €";ROLE=REQ-PARTICIPANT:Enfant : 5 €
CATEGORIES:P,�,�,l,e,r,i,n,a,g,e
CONTACT: animé par la Communauté de l’Emmanuel\, Philippe et Marie-Luc
 e Odin - 06 88 77 31 94 - 06 70 30 56 06 -pml.odin@orange.fr 	 George et A
 nnick Ledeuil - 06 42 53 72 10 - 07 87 01 79 83 - gledeuil@free.fr
CREATED;VALUE=DATE-TIME:20260120T083329Z
DESCRIPTION:« La miséricorde de Dieu est comme un torrent débordé. Ell
 e entraîne les cœurs sur son passage. »\nAlors que nous avons fêté le
  centenaire de la canonisation du Saint curé d’Ars (Saint Jean-Marie Vi
 anney)\, partons en pèlerinage à Ars !\nDécouvrons l’amour débordant
  de Dieu pour nous\, et prions pour les prêtres et pour les vocations !\n
LAST-MODIFIED;VALUE=DATE-TIME:20260120T084709Z
URL:https://www.yonne.catholique.fr/pelerinages/peleriner-dans-lyonne/Pele
 rinage_a_ARS
END:VEVENT
END:VCALENDAR
