BEGIN:VCALENDAR
VERSION:2.0
PRODID:-//Plone.org//NONSGML plone.app.event//EN
X-WR-TIMEZONE:Europe/Paris
BEGIN:VEVENT
SUMMARY:Baptême\, premières communions et professions de foi lors de la 
 messe dominicale du 22 juin à Saint-Fargeau
DTSTART;TZID=Europe/Paris;VALUE=DATE-TIME:20250622T110000
DTSTAMP;VALUE=DATE-TIME:20260424T165326Z
UID:311afd3e006440f7baf5b3732db8d7c8@www.yonne.catholique.fr
CREATED;VALUE=DATE-TIME:20250518T063851Z
LAST-MODIFIED;VALUE=DATE-TIME:20250518T065541Z
LOCATION:Eglise de Saint-Fargeau
URL:https://www.yonne.catholique.fr/sacre-coeur-en-puisaye/actualite-paroi
 ssiale/calendrier-paroissial/celebrations-a-venir-bapteme-premieres-commun
 ions-et-professions-de-foi-lors-de-la-messe-dominicale-du-22-juin-a-saint-
 fargeau
END:VEVENT
BEGIN:VTIMEZONE
TZID:Europe/Paris
X-LIC-LOCATION:Europe/Paris
BEGIN:DAYLIGHT
DTSTART;VALUE=DATE-TIME:20250330T030000
TZNAME:CEST
TZOFFSETFROM:+0100
TZOFFSETTO:+0200
END:DAYLIGHT
END:VTIMEZONE
END:VCALENDAR
