BEGIN:VCALENDAR
VERSION:2.0
PRODID:-//Plone.org//NONSGML plone.app.event//EN
X-WR-TIMEZONE:Europe/Paris
BEGIN:VEVENT
SUMMARY:Parcours Alpha
DTSTART;TZID=Europe/Vienna;VALUE=DATE-TIME:20191003T190000
DTEND;TZID=Europe/Vienna;VALUE=DATE-TIME:20191003T190000
DTSTAMP;VALUE=DATE-TIME:20260419T151855Z
UID:cf4ae58490bc40639eac78d4b95ed84a@www.yonne.catholique.fr
CREATED;VALUE=DATE-TIME:20190708T085926Z
DESCRIPTION:Nous avons le plaisir de vous inviter à une série de dîners
  pour partager sur le sens de la vie et découvrir les bases de la proposi
 tion chrétienne. \n
LAST-MODIFIED;VALUE=DATE-TIME:20220123T091731Z
LOCATION:Salle paroissiale 2 rue Lepelletier
URL:https://www.yonne.catholique.fr/sacre-coeur-en-puisaye/actualite-paroi
 ssiale/calendrier-paroissial/parcours-alpha
END:VEVENT
BEGIN:VTIMEZONE
TZID:Europe/Vienna
X-LIC-LOCATION:Europe/Vienna
BEGIN:DAYLIGHT
DTSTART;VALUE=DATE-TIME:20190331T030000
TZNAME:CEST
TZOFFSETFROM:+0100
TZOFFSETTO:+0200
END:DAYLIGHT
END:VTIMEZONE
END:VCALENDAR
