BEGIN:VCALENDAR
VERSION:2.0
PRODID:-//Plone.org//NONSGML plone.app.event//EN
X-WR-TIMEZONE:Europe/Paris
BEGIN:VEVENT
SUMMARY:Parcours Alpha 
DTSTART;TZID=Europe/Vienna;VALUE=DATE-TIME:20181111T123000
DTEND;TZID=Europe/Vienna;VALUE=DATE-TIME:20181111T173000
DTSTAMP;VALUE=DATE-TIME:20260421T045810Z
UID:3cb123fb38b74cf1be1f50a2002f46f6@www.yonne.catholique.fr
CREATED;VALUE=DATE-TIME:20181114T105636Z
DESCRIPTION:Dimanche 11 Novembre a eu lieu le temps fort du Parcours Alpha
LAST-MODIFIED;VALUE=DATE-TIME:20220127T103313Z
LOCATION:St Fargeau
URL:https://www.yonne.catholique.fr/sacre-coeur-en-puisaye/actualite-paroi
 ssiale/evenements/parcours-alpha-septembre-2018
END:VEVENT
BEGIN:VTIMEZONE
TZID:Europe/Vienna
X-LIC-LOCATION:Europe/Vienna
BEGIN:STANDARD
DTSTART;VALUE=DATE-TIME:20181028T020000
TZNAME:CET
TZOFFSETFROM:+0200
TZOFFSETTO:+0100
END:STANDARD
END:VTIMEZONE
END:VCALENDAR
