BEGIN:VCALENDAR
VERSION:2.0
PRODID:-//Plone.org//NONSGML plone.app.event//EN
X-WR-TIMEZONE:Europe/Paris
BEGIN:VEVENT
SUMMARY:CERISIERS
DTSTART;VALUE=DATE-TIME:20230122T093000Z
DTEND;VALUE=DATE-TIME:20230122T100000Z
DTSTAMP;VALUE=DATE-TIME:20260420T223020Z
UID:769m362joh00giuvv4c2jrl54s@google.com
CREATED;VALUE=DATE-TIME:20230117T100016Z
LAST-MODIFIED;VALUE=DATE-TIME:20230117T100058Z
URL:https://www.yonne.catholique.fr/saint-ebbon/actualite-paroissiale/agen
 da/archives/cerisiers-1
END:VEVENT
END:VCALENDAR
